BEGIN:VCALENDAR
VERSION:2.0
PRODID:-//IP.Board Calendar 4.3.2//EN
METHOD:PUBLISH
CALSCALE:GREGORIAN
X-WR-CALNAME:Даты релизов
BEGIN:VTIMEZONE
TZID:Europe/London
TZURL:http://tzurl.org/zoneinfo/Europe/London
X-LIC-LOCATION:Europe/London
BEGIN:DAYLIGHT
TZOFFSETFROM:+0000
TZOFFSETTO:+0100
TZNAME:BST
DTSTART:20210328T020000Z
RRULE:FREQ=YEARLY;BYMONTH=3;BYDAY=-1SU
END:DAYLIGHT
BEGIN:STANDARD
TZOFFSETFROM:+0100
TZOFFSETTO:+0000
TZNAME:GMT
DTSTART:20211031T020000Z
RRULE:FREQ=YEARLY;BYMONTH=10;BYDAY=-1SU
END:STANDARD
END:VTIMEZONE
BEGIN:VEVENT
SUMMARY:King Arthur: Knight's Tale (Early Access)
DTSTAMP:20201201T163047Z
SEQUENCE:0
UID:79-1-8f2f55562768fa2de25599b47345ba84@forum.rpgnuke.ru
ORGANIZER;CN="Tayon":forum.rpgnuke.ru@yandex.ru
DESCRIPTION:\n	Мрачная та
	ктическая RPG
	\, события которой разворачивают
	ся в мире Артурианских Легенд.\n
DTSTART;VALUE=DATE:20210126
END:VEVENT
END:VCALENDAR
